BEGIN:VCALENDAR
METHOD:PUBLISH
VERSION:2.0
CALSCALE:GREGORIAN
PRODID:-//NONSGML WPForms//NONSGML Sugar Calendar Feeds v3.10.0//EN
X-WR-CALNAME:Wine Cave Tastings
X-WR-CALDESC:Grand River Cellars Winery &amp\; Restaurant
X-WR-TIMEZONE:UTC
BEGIN:VTIMEZONE
TZID:UTC
BEGIN:STANDARD
TZOFFSETFROM:+0000
TZOFFSETTO:+0000
DTSTART:20161029T003000
TZNAME:UTC
END:STANDARD
END:VTIMEZONE
BEGIN:VTIMEZONE
TZID:UTC
BEGIN:STANDARD
TZOFFSETFROM:+0000
TZOFFSETTO:+0000
DTSTART:20161029T003000
TZNAME:UTC
END:STANDARD
END:VTIMEZONE
BEGIN:VEVENT
SUMMARY:Wine Cave Tastings
DESCRIPTION:Cave Tastings-Saturdays at 12:30 &amp\; 1:30\nLooking for a 
 more intimate experience? Join us in our exclusive Wine Cave for an educ
 ational &amp\; informational tasting with hors d'oeuvres. Tastings will 
 last 30-40 minutes and will include 5 wine samples our of award winning 
 wines. Tasting preference of dry and sweet palates are both offered. Res
 ervations are required. $15 per person\n\nNOTE: Our kitchen will accommo
 date any dietary restrictions for diners when noted at time of reservati
 on booking. Menu &amp\; wines are subject to change without notice. Call
  us at 440-298-9838 or email us at grcinfo@grandrivercellars.com for mor
 e information
URL;VALUE=URI:https://www.grandrivercellars.com/events/wine-cave-tasting
 s-5/
UID:urn:uuid:7193cff1-289c-4f01-bb44-10e87d252710
STATUS:CONFIRMED
ORGANIZER:
DTSTAMP:20260421T091944Z
DTSTART;TZID=UTC:20170429T123000
DTEND;TZID=UTC:20170429T143000
END:VEVENT
END:VCALENDAR