BEGIN:VCALENDAR
METHOD:PUBLISH
VERSION:2.0
CALSCALE:GREGORIAN
PRODID:-//NONSGML WPForms//NONSGML Sugar Calendar Feeds v3.10.0//EN
X-WR-CALNAME:Tommy McCrone
X-WR-CALDESC:Grand River Cellars Winery &amp\; Restaurant
X-WR-TIMEZONE:UTC
BEGIN:VTIMEZONE
TZID:UTC
BEGIN:STANDARD
TZOFFSETFROM:+0000
TZOFFSETTO:+0000
DTSTART:20231223T070000
TZNAME:UTC
END:STANDARD
END:VTIMEZONE
BEGIN:VTIMEZONE
TZID:UTC
BEGIN:STANDARD
TZOFFSETFROM:+0000
TZOFFSETTO:+0000
DTSTART:20231223T070000
TZNAME:UTC
END:STANDARD
END:VTIMEZONE
BEGIN:VEVENT
SUMMARY:Tommy McCrone
DESCRIPTION:Live music
URL;VALUE=URI:https://www.grandrivercellars.com/events/tommy-mccrone-9/
UID:urn:uuid:98464a82-d86a-485e-9fff-0ba39b54252c
STATUS:CONFIRMED
ORGANIZER:
DTSTAMP:20260421T172416Z
DTSTART;TZID=UTC:20240622T190000
DTEND;TZID=UTC:20240622T213000
END:VEVENT
END:VCALENDAR