BEGIN:VCALENDAR
METHOD:PUBLISH
VERSION:2.0
CALSCALE:GREGORIAN
PRODID:-//NONSGML WPForms//NONSGML Sugar Calendar Feeds v3.10.0//EN
X-WR-CALNAME:Rob Covert
X-WR-CALDESC:Grand River Cellars Winery &amp\; Restaurant
X-WR-TIMEZONE:UTC
BEGIN:VTIMEZONE
TZID:UTC
BEGIN:STANDARD
TZOFFSETFROM:+0000
TZOFFSETTO:+0000
DTSTART:20251206T010000
TZNAME:UTC
END:STANDARD
END:VTIMEZONE
BEGIN:VTIMEZONE
TZID:UTC
BEGIN:STANDARD
TZOFFSETFROM:+0000
TZOFFSETTO:+0000
DTSTART:20251206T010000
TZNAME:UTC
END:STANDARD
END:VTIMEZONE
BEGIN:VEVENT
SUMMARY:Rob Covert
DESCRIPTION:Live Music by Rob Covert
URL;VALUE=URI:https://www.grandrivercellars.com/events/rob-covert-5/
UID:urn:uuid:48a77c35-3878-40b6-8bf2-fbae57baaac8
STATUS:CONFIRMED
ORGANIZER:
DTSTAMP:20260424T155656Z
DTSTART;TZID=UTC:20260606T130000
DTEND;TZID=UTC:20260606T160000
END:VEVENT
END:VCALENDAR