BEGIN:VCALENDAR
METHOD:PUBLISH
VERSION:2.0
CALSCALE:GREGORIAN
PRODID:-//NONSGML WPForms//NONSGML Sugar Calendar Feeds v3.10.0//EN
X-WR-CALNAME:Porch Rockers
X-WR-CALDESC:Grand River Cellars Winery &amp\; Restaurant
X-WR-TIMEZONE:UTC
BEGIN:VTIMEZONE
TZID:UTC
BEGIN:STANDARD
TZOFFSETFROM:+0000
TZOFFSETTO:+0000
DTSTART:20190223T073000
TZNAME:UTC
END:STANDARD
END:VTIMEZONE
BEGIN:VTIMEZONE
TZID:UTC
BEGIN:STANDARD
TZOFFSETFROM:+0000
TZOFFSETTO:+0000
DTSTART:20190223T073000
TZNAME:UTC
END:STANDARD
END:VTIMEZONE
BEGIN:VEVENT
SUMMARY:Porch Rockers
DESCRIPTION:Live music-Rock
URL;VALUE=URI:https://www.grandrivercellars.com/events/porch-rockers/
UID:urn:uuid:2418c014-784f-4c59-a850-2d14d90b1d84
STATUS:CONFIRMED
ORGANIZER:
DTSTAMP:20260420T085442Z
DTSTART;TZID=UTC:20190824T193000
DTEND;TZID=UTC:20190824T223000
END:VEVENT
END:VCALENDAR