BEGIN:VCALENDAR
METHOD:PUBLISH
VERSION:2.0
CALSCALE:GREGORIAN
PRODID:-//NONSGML WPForms//NONSGML Sugar Calendar Feeds v3.10.0//EN
X-WR-CALNAME:Nia Covington
X-WR-CALDESC:Grand River Cellars Winery &amp\; Restaurant
X-WR-TIMEZONE:UTC
BEGIN:VTIMEZONE
TZID:UTC
BEGIN:STANDARD
TZOFFSETFROM:+0000
TZOFFSETTO:+0000
DTSTART:20251026T040000
TZNAME:UTC
END:STANDARD
END:VTIMEZONE
BEGIN:VTIMEZONE
TZID:UTC
BEGIN:STANDARD
TZOFFSETFROM:+0000
TZOFFSETTO:+0000
DTSTART:20251026T040000
TZNAME:UTC
END:STANDARD
END:VTIMEZONE
BEGIN:VEVENT
SUMMARY:Nia Covington
DESCRIPTION:Live Music by Nia Covington
URL;VALUE=URI:https://www.grandrivercellars.com/events/nia-covington-46/
UID:urn:uuid:7bbef8f9-5241-42ac-8375-2d6b3dc95d11
STATUS:CONFIRMED
ORGANIZER:
DTSTAMP:20260420T200631Z
DTSTART;TZID=UTC:20260426T160000
DTEND;TZID=UTC:20260426T190000
END:VEVENT
END:VCALENDAR