BEGIN:VCALENDAR
METHOD:PUBLISH
VERSION:2.0
CALSCALE:GREGORIAN
PRODID:-//NONSGML WPForms//NONSGML Sugar Calendar Feeds v3.10.0//EN
X-WR-CALNAME:Lunch Special-soup & sandwich
X-WR-CALDESC:Grand River Cellars Winery &amp\; Restaurant
X-WR-TIMEZONE:UTC
BEGIN:VTIMEZONE
TZID:UTC
BEGIN:STANDARD
TZOFFSETFROM:+0000
TZOFFSETTO:+0000
DTSTART:20240819T000000
TZNAME:UTC
END:STANDARD
END:VTIMEZONE
BEGIN:VTIMEZONE
TZID:UTC
BEGIN:STANDARD
TZOFFSETFROM:+0000
TZOFFSETTO:+0000
DTSTART:20240819T000000
TZNAME:UTC
END:STANDARD
END:VTIMEZONE
BEGIN:VEVENT
SUMMARY:Lunch Special-soup & sandwich
DESCRIPTION:
URL;VALUE=URI:https://www.grandrivercellars.com/events/lunch-special-sou
 p-sandwich-6/
UID:urn:uuid:c99d01b2-1d0f-4c08-9f7b-48ba68d297b2
STATUS:CONFIRMED
ORGANIZER:
DTSTAMP:20260423T071143Z
DTSTART;TZID=UTC:20250217T120000
DTEND;TZID=UTC:20250221T150000
END:VEVENT
END:VCALENDAR