BEGIN:VCALENDAR
METHOD:PUBLISH
VERSION:2.0
CALSCALE:GREGORIAN
PRODID:-//NONSGML WPForms//NONSGML Sugar Calendar Feeds v3.10.0//EN
X-WR-CALNAME:Jim Pavkov
X-WR-CALDESC:Grand River Cellars Winery &amp\; Restaurant
X-WR-TIMEZONE:UTC
BEGIN:VTIMEZONE
TZID:UTC
BEGIN:STANDARD
TZOFFSETFROM:+0000
TZOFFSETTO:+0000
DTSTART:20251213T010000
TZNAME:UTC
END:STANDARD
END:VTIMEZONE
BEGIN:VTIMEZONE
TZID:UTC
BEGIN:STANDARD
TZOFFSETFROM:+0000
TZOFFSETTO:+0000
DTSTART:20251213T010000
TZNAME:UTC
END:STANDARD
END:VTIMEZONE
BEGIN:VEVENT
SUMMARY:Jim Pavkov
DESCRIPTION:Live Music by Jim Pavkov
URL;VALUE=URI:https://www.grandrivercellars.com/events/jim-pavkov-12/
UID:urn:uuid:a97f48e5-beb7-44bc-8ca1-1fe6ebc2c6f1
STATUS:CONFIRMED
ORGANIZER:
DTSTAMP:20260424T190737Z
DTSTART;TZID=UTC:20260613T130000
DTEND;TZID=UTC:20260613T160000
END:VEVENT
END:VCALENDAR