BEGIN:VCALENDAR
METHOD:PUBLISH
VERSION:2.0
CALSCALE:GREGORIAN
PRODID:-//NONSGML WPForms//NONSGML Sugar Calendar Feeds v3.10.0//EN
X-WR-CALNAME:Eric Andrews
X-WR-CALDESC:Grand River Cellars Winery &amp\; Restaurant
X-WR-TIMEZONE:UTC
BEGIN:VTIMEZONE
TZID:UTC
BEGIN:STANDARD
TZOFFSETFROM:+0000
TZOFFSETTO:+0000
DTSTART:20251206T063000
TZNAME:UTC
END:STANDARD
END:VTIMEZONE
BEGIN:VTIMEZONE
TZID:UTC
BEGIN:STANDARD
TZOFFSETFROM:+0000
TZOFFSETTO:+0000
DTSTART:20251206T063000
TZNAME:UTC
END:STANDARD
END:VTIMEZONE
BEGIN:VEVENT
SUMMARY:Eric Andrews
DESCRIPTION:Live Music by Eric Andrews
URL;VALUE=URI:https://www.grandrivercellars.com/events/eric-andrews-7/
UID:urn:uuid:0d282ea3-120f-4760-acda-b6fc38b7eafa
STATUS:CONFIRMED
ORGANIZER:
DTSTAMP:20260421T113043Z
DTSTART;TZID=UTC:20260606T183000
DTEND;TZID=UTC:20260606T213000
END:VEVENT
END:VCALENDAR